BEGIN:VCALENDAR
VERSION:2.0
PRODID:-//Partnership Grand Strand - ECPv6.15.20//NONSGML v1.0//EN
CALSCALE:GREGORIAN
METHOD:PUBLISH
X-WR-CALNAME:Partnership Grand Strand
X-ORIGINAL-URL:https://www.partnershipgrandstrand.com
X-WR-CALDESC:Events for Partnership Grand Strand
REFRESH-INTERVAL;VALUE=DURATION:PT1H
X-Robots-Tag:noindex
X-PUBLISHED-TTL:PT1H
BEGIN:VTIMEZONE
TZID:UTC
BEGIN:STANDARD
TZOFFSETFROM:+0000
TZOFFSETTO:+0000
TZNAME:UTC
DTSTART:20230101T000000
END:STANDARD
END:VTIMEZONE
BEGIN:VEVENT
DTSTART;TZID=UTC:20240327T120000
DTEND;TZID=UTC:20240327T160000
DTSTAMP:20260421T134737
CREATED:20240314T220053Z
LAST-MODIFIED:20240325T133128Z
UID:826-1711540800-1711555200@www.partnershipgrandstrand.com
SUMMARY:Brittain Resorts & Hotels Hiring Event
DESCRIPTION:
URL:https://www.partnershipgrandstrand.com/event/brittain-resorts-hotels-hiring-event/
LOCATION:2164 Oakheart Rd\, Myrtle Beach\, SC 29579\, 2164 Oakheart Rd\, Myrtle Beach\, SC\, 29579\, United States
CATEGORIES:Career Fairs & Hiring Events,Talent & Workforce,Workforce
ORGANIZER;CN="Daniel Chestnut":MAILTO:tchestnut@palmettogoodwill.org
END:VEVENT
END:VCALENDAR