BEGIN:VCALENDAR
VERSION:2.0
PRODID:-//Partnership Grand Strand - ECPv6.15.20//NONSGML v1.0//EN
CALSCALE:GREGORIAN
METHOD:PUBLISH
X-WR-CALNAME:Partnership Grand Strand
X-ORIGINAL-URL:https://www.partnershipgrandstrand.com
X-WR-CALDESC:Events for Partnership Grand Strand
REFRESH-INTERVAL;VALUE=DURATION:PT1H
X-Robots-Tag:noindex
X-PUBLISHED-TTL:PT1H
BEGIN:VTIMEZONE
TZID:UTC
BEGIN:STANDARD
TZOFFSETFROM:+0000
TZOFFSETTO:+0000
TZNAME:UTC
DTSTART:20240101T000000
END:STANDARD
END:VTIMEZONE
BEGIN:VEVENT
DTSTART;TZID=UTC:20250922T160000
DTEND;TZID=UTC:20250922T190000
DTSTAMP:20260424T012657
CREATED:20250916T173848Z
LAST-MODIFIED:20250916T173848Z
UID:1682-1758556800-1758567600@www.partnershipgrandstrand.com
SUMMARY:Careers at the Coast
DESCRIPTION:Careers at the Coast is a premier regional hiring event organized by Partnership Grand Strand (PGS) alongside local workforce partners. The event is intentionally designed to enhance employer-employee connections\, reduce hiring event fatigue\, and create accessible job pathways. It offers a concentrated opportunity for job seekers to meet multiple employers and for businesses to find top candidates efficiently. The inaugural April 2025 event received strong positive feedback\, affirming its value to the community. \n\n\nEmployers seeking to connect with qualified talent in a streamlined\, high-impact setting. \n\n\nJob seekers looking to explore multiple career opportunities in one convenient location. \n\n\nFor more info / employers registration details\, click here \n  \n 
URL:https://www.partnershipgrandstrand.com/event/careers-at-the-coast-2/
LOCATION:Horry-Georgetown Technical College  ﻿Conference & Business Center\, 950 Crabtree Ln\, Myrtle Beach\, SC\, 29577\, United States
CATEGORIES:Career Fairs & Hiring Events,Talent & Workforce
ATTACH;FMTTYPE=image/jpeg:https://www.partnershipgrandstrand.com/wp-content/uploads/2025/07/JobFair.jpg
ORGANIZER;CN="Partnership Grand Strand":MAILTO:marianne.joy@partnershipgrandstrand.com
END:VEVENT
END:VCALENDAR