BEGIN:VCALENDAR
VERSION:2.0
PRODID:-//Partnership Grand Strand - ECPv6.15.20//NONSGML v1.0//EN
CALSCALE:GREGORIAN
METHOD:PUBLISH
X-WR-CALNAME:Partnership Grand Strand
X-ORIGINAL-URL:https://www.partnershipgrandstrand.com
X-WR-CALDESC:Events for Partnership Grand Strand
REFRESH-INTERVAL;VALUE=DURATION:PT1H
X-Robots-Tag:noindex
X-PUBLISHED-TTL:PT1H
BEGIN:VTIMEZONE
TZID:UTC
BEGIN:STANDARD
TZOFFSETFROM:+0000
TZOFFSETTO:+0000
TZNAME:UTC
DTSTART:20240101T000000
END:STANDARD
END:VTIMEZONE
BEGIN:VEVENT
DTSTART;TZID=UTC:20251216T100000
DTEND;TZID=UTC:20251216T120000
DTSTAMP:20260420T021134
CREATED:20251201T193710Z
LAST-MODIFIED:20251201T193710Z
UID:1802-1765879200-1765886400@www.partnershipgrandstrand.com
SUMMARY:Horry County Schools Hiring Event
DESCRIPTION:Horry County Schools (HCS) is looking to hire:\nCDL Class B \nWill provide training & Testing!
URL:https://www.partnershipgrandstrand.com/event/horry-county-schools-hiring-event-2/
LOCATION:SC Works - Conway\, 200A Victory Lane\, Conway\, 29526\, United States
CATEGORIES:Career Fairs & Hiring Events
END:VEVENT
END:VCALENDAR