BEGIN:VCALENDAR
VERSION:2.0
PRODID:-//Partnership Grand Strand - ECPv6.15.20//NONSGML v1.0//EN
CALSCALE:GREGORIAN
METHOD:PUBLISH
X-WR-CALNAME:Partnership Grand Strand
X-ORIGINAL-URL:https://www.partnershipgrandstrand.com
X-WR-CALDESC:Events for Partnership Grand Strand
REFRESH-INTERVAL;VALUE=DURATION:PT1H
X-Robots-Tag:noindex
X-PUBLISHED-TTL:PT1H
BEGIN:VTIMEZONE
TZID:UTC
BEGIN:STANDARD
TZOFFSETFROM:+0000
TZOFFSETTO:+0000
TZNAME:UTC
DTSTART:20250101T000000
END:STANDARD
END:VTIMEZONE
BEGIN:VEVENT
DTSTART;TZID=UTC:20260402T120000
DTEND;TZID=UTC:20260402T140000
DTSTAMP:20260420T080412
CREATED:20260217T180037Z
LAST-MODIFIED:20260217T180037Z
UID:1956-1775131200-1775138400@www.partnershipgrandstrand.com
SUMMARY:Myrtle Beach High School Hiring Event
DESCRIPTION:Employers… \nMyrtle Beach High School will be hosting their hiring event on Thursday\, April 2\, 2026 from 12- 2pm in the Gym. For details\, please contact Holly McMillan at HMcMillan@horrycountyschools.net
URL:https://www.partnershipgrandstrand.com/event/myrtle-beach-high-school-hiring-event/
LOCATION:Myrtle Beach High School\, 3302 Robert M Grissom Pkwy\, Myrtle Beach\, SC\, 29577\, United States
CATEGORIES:Career Fairs & Hiring Events
END:VEVENT
END:VCALENDAR