BEGIN:VCALENDAR
VERSION:2.0
PRODID:-//Partnership Grand Strand - ECPv6.15.20//NONSGML v1.0//EN
CALSCALE:GREGORIAN
METHOD:PUBLISH
X-WR-CALNAME:Partnership Grand Strand
X-ORIGINAL-URL:https://www.partnershipgrandstrand.com
X-WR-CALDESC:Events for Partnership Grand Strand
REFRESH-INTERVAL;VALUE=DURATION:PT1H
X-Robots-Tag:noindex
X-PUBLISHED-TTL:PT1H
BEGIN:VTIMEZONE
TZID:UTC
BEGIN:STANDARD
TZOFFSETFROM:+0000
TZOFFSETTO:+0000
TZNAME:UTC
DTSTART:20250101T000000
END:STANDARD
END:VTIMEZONE
BEGIN:VEVENT
DTSTART;TZID=UTC:20260429T083000
DTEND;TZID=UTC:20260429T110000
DTSTAMP:20260419T170256
CREATED:20260217T184301Z
LAST-MODIFIED:20260217T192138Z
UID:1960-1777451400-1777460400@www.partnershipgrandstrand.com
SUMMARY:North Myrtle Beach High School Job Fair
DESCRIPTION:Employers... \nNorth Myrtle Beach High School is hosting their job fair on April 29  from 8:30-11:00. For more information\, please contact Lucinda Ward at LWard@horrycountyschools.net
URL:https://www.partnershipgrandstrand.com/event/north-myrtle-beach-high-school-job-fair/
LOCATION:North Myrtle Beach High School\, 3750 Sea Mountain Hwy\, Little River\, SC\, 29566\, United States
CATEGORIES:Career Fairs & Hiring Events
END:VEVENT
END:VCALENDAR