BEGIN:VCALENDAR
VERSION:2.0
PRODID:-//Partnership Grand Strand - ECPv6.15.20//NONSGML v1.0//EN
CALSCALE:GREGORIAN
METHOD:PUBLISH
X-WR-CALNAME:Partnership Grand Strand
X-ORIGINAL-URL:https://www.partnershipgrandstrand.com
X-WR-CALDESC:Events for Partnership Grand Strand
REFRESH-INTERVAL;VALUE=DURATION:PT1H
X-Robots-Tag:noindex
X-PUBLISHED-TTL:PT1H
BEGIN:VTIMEZONE
TZID:UTC
BEGIN:STANDARD
TZOFFSETFROM:+0000
TZOFFSETTO:+0000
TZNAME:UTC
DTSTART:20240101T000000
END:STANDARD
END:VTIMEZONE
BEGIN:VEVENT
DTSTART;TZID=UTC:20251209T110000
DTEND;TZID=UTC:20251209T150000
DTSTAMP:20260423T112343
CREATED:20251201T184219Z
LAST-MODIFIED:20251201T185224Z
UID:1796-1765278000-1765292400@www.partnershipgrandstrand.com
SUMMARY:Spherion Staffing and Recruiting Job Fair
DESCRIPTION:EXPERIENCE WE ARE LOOKING FOR: \nHousekeepers\nDelivery Helpers\nMaintenance Techs\nMachine Operators\nHVAC Techs\nAdmin Asst.\nElectricians\nAccountants\nand More!
URL:https://www.partnershipgrandstrand.com/event/spherion-staffing-and-recruiting-job-fair-6/
LOCATION:Spherion Staffing and Recruiting\, 702-A N Main St\, Conway\, SC\, 29526\, United States
CATEGORIES:Career Fairs & Hiring Events
END:VEVENT
END:VCALENDAR