BEGIN:VCALENDAR
VERSION:2.0
PRODID:-//Partnership Grand Strand - ECPv6.15.20//NONSGML v1.0//EN
CALSCALE:GREGORIAN
METHOD:PUBLISH
X-WR-CALNAME:Partnership Grand Strand
X-ORIGINAL-URL:https://www.partnershipgrandstrand.com
X-WR-CALDESC:Events for Partnership Grand Strand
REFRESH-INTERVAL;VALUE=DURATION:PT1H
X-Robots-Tag:noindex
X-PUBLISHED-TTL:PT1H
BEGIN:VTIMEZONE
TZID:UTC
BEGIN:STANDARD
TZOFFSETFROM:+0000
TZOFFSETTO:+0000
TZNAME:UTC
DTSTART:20240101T000000
END:STANDARD
END:VTIMEZONE
BEGIN:VEVENT
DTSTART;TZID=UTC:20251124T100000
DTEND;TZID=UTC:20251124T120000
DTSTAMP:20260421T094209
CREATED:20251120T205339Z
LAST-MODIFIED:20251120T205438Z
UID:1769-1763978400-1763985600@www.partnershipgrandstrand.com
SUMMARY:United States Postal Service Hiring Event
DESCRIPTION:Now Hiring! \n• Assistant Rural Carriers (Sat/Sun Amazon)\n• Rural Carrier Associates (Relief Carrier)\n• Apply for all local SC Post Offices \n• Must have a valid SC Driver's License\n• Must be at least 18 years of age\n• May be required to use your personal vehicle ($0.97 cents per mile) \nUS Postal Service Employees will be on hand to answer your questions about careers with USPS. \nOr visit www.usps.com/careers to complete an application.\nOnline assessments can now be completed from your electronic devices.
URL:https://www.partnershipgrandstrand.com/event/united-states-postal-service-hiring-event/
LOCATION:SC Works - Conway\, 200A Victory Lane\, Conway\, 29526\, United States
CATEGORIES:Career Fairs & Hiring Events
END:VEVENT
END:VCALENDAR