BEGIN:VCALENDAR
VERSION:2.0
PRODID:-//Partnership Grand Strand - ECPv6.15.20//NONSGML v1.0//EN
CALSCALE:GREGORIAN
METHOD:PUBLISH
X-WR-CALNAME:Partnership Grand Strand
X-ORIGINAL-URL:https://www.partnershipgrandstrand.com
X-WR-CALDESC:Events for Partnership Grand Strand
REFRESH-INTERVAL;VALUE=DURATION:PT1H
X-Robots-Tag:noindex
X-PUBLISHED-TTL:PT1H
BEGIN:VTIMEZONE
TZID:UTC
BEGIN:STANDARD
TZOFFSETFROM:+0000
TZOFFSETTO:+0000
TZNAME:UTC
DTSTART:20230101T000000
END:STANDARD
END:VTIMEZONE
BEGIN:VEVENT
DTSTART;TZID=UTC:20240624T093000
DTEND;TZID=UTC:20240624T130000
DTSTAMP:20260419T223802
CREATED:20240603T172345Z
LAST-MODIFIED:20240605T160252Z
UID:899-1719221400-1719234000@www.partnershipgrandstrand.com
SUMMARY:Willamsburg County Transit Hiring Event
DESCRIPTION:
URL:https://www.partnershipgrandstrand.com/event/willamsburg-county-transit/
LOCATION:530 Martin Luther King Jr Ave\, Kingstree\, SC 29556\, 530 Martin Luther King Jr Ave\, Kingstree\, SC\, 29556\, United States
CATEGORIES:Career Fairs & Hiring Events,Talent & Workforce,Workforce
ORGANIZER;CN="SCWorks":MAILTO:SCWorksWaccamaw@dew.sc.gov
END:VEVENT
END:VCALENDAR