BEGIN:VCALENDAR
VERSION:2.0
PRODID:-//Partnership Grand Strand - ECPv6.15.20//NONSGML v1.0//EN
CALSCALE:GREGORIAN
METHOD:PUBLISH
X-ORIGINAL-URL:https://www.partnershipgrandstrand.com
X-WR-CALDESC:Events for Partnership Grand Strand
REFRESH-INTERVAL;VALUE=DURATION:PT1H
X-Robots-Tag:noindex
X-PUBLISHED-TTL:PT1H
BEGIN:VTIMEZONE
TZID:UTC
BEGIN:STANDARD
TZOFFSETFROM:+0000
TZOFFSETTO:+0000
TZNAME:UTC
DTSTART:20250101T000000
END:STANDARD
END:VTIMEZONE
BEGIN:VEVENT
DTSTART;TZID=UTC:20260225T083000
DTEND;TZID=UTC:20260225T100000
DTSTAMP:20260424T093946
CREATED:20251222T184525Z
LAST-MODIFIED:20251222T190454Z
UID:10000613-1772008200-1772013600@www.partnershipgrandstrand.com
SUMMARY:Small Business Workshop: Operational Efficiencies
DESCRIPTION:Streamline your workflows and strengthen your business for long-term success. Topics include systems\, staffing\, cost management\, and supply chains—all focused on building a scalable foundation. Hosted by Conway Downtown Alive. \nFirst in a 5-part series of events (register for one or all events). When registering for all 5 workshops\, use the promo code: BUNDLE to save $25! \nThis workshop complements what you’re already doing—offering strategic guidance\, operational insight\, and expert feedback. \nOperational Efficiencies – February 25\, 2026 \nA deep dive into streamlining workflows\, identifying gaps\, and boosting sustainability. Topics include systems\, staffing\, cost management\, and supply chains—all geared toward building a scalable foundation. \nFacilitated by: Hop2It Consulting \nTo register\, click here \nMore info
URL:https://www.partnershipgrandstrand.com/event/small-business-workshop-operational-efficiencies/
LOCATION:Conway Downtown Alive\, 428 N Main St\, Conway\, 29526\, United States
CATEGORIES:Local Business Events,Small Business Workshops
ORGANIZER;CN="Partnership Grand Strand":MAILTO:marianne.joy@partnershipgrandstrand.com
END:VEVENT
BEGIN:VEVENT
DTSTART;TZID=UTC:20260225T100000
DTEND;TZID=UTC:20260225T130000
DTSTAMP:20260424T093946
CREATED:20260204T175302Z
LAST-MODIFIED:20260204T175302Z
UID:10000636-1772013600-1772024400@www.partnershipgrandstrand.com
SUMMARY:South Carolina Department of Corrections Hiring Event
DESCRIPTION:Now Hiring for Correction Officers! \nSouth Carolina Department of Corrections (SCDC) will be holding in person interviews at our Kingstree location. Come speak with  a representative for more information.
URL:https://www.partnershipgrandstrand.com/event/south-carolina-department-of-corrections-hiring-event-6/
LOCATION:SC Works - Kingstree\, 530 Martin Luther King Jr. Ave.\, Kingstree\, SC\, 29556\, United States
CATEGORIES:Career Fairs & Hiring Events
END:VEVENT
END:VCALENDAR