BEGIN:VCALENDAR
VERSION:2.0
PRODID:-//Partnership Grand Strand - ECPv6.15.20//NONSGML v1.0//EN
CALSCALE:GREGORIAN
METHOD:PUBLISH
X-WR-CALNAME:Partnership Grand Strand
X-ORIGINAL-URL:https://www.partnershipgrandstrand.com
X-WR-CALDESC:Events for Partnership Grand Strand
REFRESH-INTERVAL;VALUE=DURATION:PT1H
X-Robots-Tag:noindex
X-PUBLISHED-TTL:PT1H
BEGIN:VTIMEZONE
TZID:UTC
BEGIN:STANDARD
TZOFFSETFROM:+0000
TZOFFSETTO:+0000
TZNAME:UTC
DTSTART:20220101T000000
END:STANDARD
END:VTIMEZONE
BEGIN:VEVENT
DTSTART;TZID=UTC:20250326T120000
DTEND;TZID=UTC:20250326T133000
DTSTAMP:20260420T120907
CREATED:20250220T192104Z
LAST-MODIFIED:20250220T192116Z
UID:10000471-1742990400-1742995800@www.partnershipgrandstrand.com
SUMMARY:Beyond Handshakes: Effective Networking for Business Growth
DESCRIPTION:Join us for the next event in the Recharge powered by Partnership Grand Strand series and pick up tips for effective networking \nGrand Strand Area business leaders - join us at eMYRge at the HTC Aspire Hub in Myrtle Beach and pick up some tips for effective networking. Topics to be covered include: \n\nThe Importance of Building a Strong Network\nStep-by-Step Strategies for Meaningful Engagement\nInteractive Exercises to Sharpen Your Skills\n\nCost: $25 \nLunch will be provided \nSpace is limited - Register today! \nRecharge - Powered by Partnership Grand Strand
URL:https://www.partnershipgrandstrand.com/event/beyond-handshakes-effective-networking-for-business-growth/
LOCATION:HTC Aspire Hub\, 509 9th Ave N.\, Myrtle Beach\, SC\, 29577\, United States
CATEGORIES:Recharge Education Series
END:VEVENT
BEGIN:VEVENT
DTSTART;TZID=UTC:20230902T090000
DTEND;TZID=UTC:20230902T220000
DTSTAMP:20260420T120907
CREATED:20230816T123827Z
LAST-MODIFIED:20230817T012009Z
UID:10000004-1693645200-1693692000@www.partnershipgrandstrand.com
SUMMARY:FAST Fest Myrtle Beach
DESCRIPTION:Partnership Grand Strand is a partner in FAST Fest Myrtle Beach. A 100% FREE and unique exploration of the Future of Art\, Society\, and Technology! \nThis event includes a virtual reality gaming competition\, Speakers and workshops focused on Artificial Intelligence\, evolution of the Myrtle Beach economy\, The Metaverse\, AI generated art\,  Art Galleries\, Networking opportunities\, a fashion show with recyclable and AI generated fashion\, and a DJ concert to cap it off!
URL:https://www.partnershipgrandstrand.com/event/fast-fest-myrtle-beach/
LOCATION:HGTC Conference Center\, 950 Crabtree Lane\, Myrtle Beach\, SC\, 29577\, United States
CATEGORIES:Conference,Mixers & Networking Events,Technology
ATTACH;FMTTYPE=image/png:https://www.partnershipgrandstrand.com/wp-content/uploads/2023/08/image.png
END:VEVENT
BEGIN:VEVENT
DTSTART;TZID=UTC:20230727T123000
DTEND;TZID=UTC:20230727T133000
DTSTAMP:20260420T120907
CREATED:20230720T023811Z
LAST-MODIFIED:20230816T124007Z
UID:10000002-1690461000-1690464600@www.partnershipgrandstrand.com
SUMMARY:Overcoming Employment Barriers Lunch & Learn
DESCRIPTION:Did you know that as an employer you may receive financial incentives for hiring job seekers who have barriers to finding employment? \nPartnership Grand Strand has teamed up with SC Works and the Waccamaw Council of Governments to bring to you a lunch and learn on how to capitalize on these incentives. \nLearn about the benefits of hiring veterans\, second-chance employees and those with disabilities. \nTopics covered will include: \n\nWork Opportunity Tax Credit - Available to employers for hiring individuals with employment barriers.\nFederal Bonding - For high-risk individuals with background or credit issues. Federal bonding will provide security for up to six months at no charge to the employer.\nPaid work experience/internships - Paid work experience/internships are a planned\, structured learning experience that takes place in a workplace for a limited period. It is designed to provide hands on experience for individuals who are lacking skills within a certain industry.\nOn The Job Training - Designed to fulfill the needs of local employers by allowing them to train new hires while they are working and learning job skills. Employers make all the hiring decisions\, tailor the training and can be reimbursed 50% or more of the trainee’s hourly wages.\n\nIf you have any questions\, please reach out to BJ Beaver at bj.beaver@visitmyrtlebeach.com.
URL:https://www.partnershipgrandstrand.com/event/overcoming-employment-barriers-lunch-learn/
LOCATION:Myrtle Beach Area Chamber of Commerce\, 1200 N. Oak St.\, Myrtle Beach\, SC\, 29577\, United States
CATEGORIES:Recharge Education Series,Workforce
END:VEVENT
BEGIN:VEVENT
DTSTART;TZID=UTC:20230722T173000
DTEND;TZID=UTC:20230722T173000
DTSTAMP:20260420T120907
CREATED:20230720T125841Z
LAST-MODIFIED:20230816T123912Z
UID:10000003-1690047000-1690047000@www.partnershipgrandstrand.com
SUMMARY:Insiders Event Series: Downtown Myrtle Beach
DESCRIPTION:Gain Insider Access to Downtown Myrtle Beach with Myrtle Beach Downtown Alliance\, Grand Strand Young Professionals and Partnership Grand Strand. \nDo you still have questions about the future and current state of downtown Myrtle Beach. Join Partnership Grand Strand with the Myrtle Beach Downtown Alliance for an insider’s look at eMYRge Aspire HUB and have your questions answered. Attendees will also have the opportunity to go on a tour of the downtown area. Refreshments will be available.
URL:https://www.partnershipgrandstrand.com/event/insiders-event-series-downtown-myrtle-beach/
LOCATION:HTC Aspire Hub\, 509 9th Ave N.\, Myrtle Beach\, SC\, 29577\, United States
CATEGORIES:Mixers & Networking Events,Placemaking Events,Tour
ATTACH;FMTTYPE=image/jpeg:https://www.partnershipgrandstrand.com/wp-content/uploads/2023/07/358530208_244163531709043_5136536814890886835_n.jpg
END:VEVENT
END:VCALENDAR